BEGIN:VCALENDAR
VERSION:2.0
PRODID:-//AYSA - ECPv6.15.18//NONSGML v1.0//EN
CALSCALE:GREGORIAN
METHOD:PUBLISH
X-WR-CALNAME:AYSA
X-ORIGINAL-URL:https://www.abileneysa.org
X-WR-CALDESC:Events for AYSA
REFRESH-INTERVAL;VALUE=DURATION:PT1H
X-Robots-Tag:noindex
X-PUBLISHED-TTL:PT1H
BEGIN:VTIMEZONE
TZID:UTC
BEGIN:STANDARD
TZOFFSETFROM:+0000
TZOFFSETTO:+0000
TZNAME:UTC
DTSTART:20200101T000000
END:STANDARD
END:VTIMEZONE
BEGIN:VEVENT
DTSTART;TZID=UTC:20210913T170000
DTEND;TZID=UTC:20210913T210000
DTSTAMP:20260423T062411
CREATED:20210119T183245Z
LAST-MODIFIED:20210119T183245Z
UID:4080-1631552400-1631566800@www.abileneysa.org
SUMMARY:VolleyKids League
DESCRIPTION:This is a progressive\, practice/play league. The first part of every evening will allow time for a team practice followed by 2 timed games. This progressive approach allows for young players to build their fundamental skills of passing\, setting\, attacking\, serving\, and defense\, while also learning strategies of the game through league play. \nPlayers will register as individuals and will be placed on teams by AYSA staff. \nEach players will be given a team shirt.
URL:https://www.abileneysa.org/event/volleykids-league-3/
LOCATION:Dodge Jones Youth Sports Center\, 1042 Loop 322\, Abilene\, TX\, 79602\, United States
ORGANIZER;CN="AYSA":MAILTO:info@abileneysa.org
END:VEVENT
END:VCALENDAR