BEGIN:VCALENDAR
VERSION:2.0
PRODID:-//AYSA - ECPv6.15.18//NONSGML v1.0//EN
CALSCALE:GREGORIAN
METHOD:PUBLISH
X-WR-CALNAME:AYSA
X-ORIGINAL-URL:https://www.abileneysa.org
X-WR-CALDESC:Events for AYSA
REFRESH-INTERVAL;VALUE=DURATION:PT1H
X-Robots-Tag:noindex
X-PUBLISHED-TTL:PT1H
BEGIN:VTIMEZONE
TZID:UTC
BEGIN:STANDARD
TZOFFSETFROM:+0000
TZOFFSETTO:+0000
TZNAME:UTC
DTSTART:20200101T000000
END:STANDARD
END:VTIMEZONE
BEGIN:VEVENT
DTSTART;TZID=UTC:20210628T150000
DTEND;TZID=UTC:20210628T154000
DTSTAMP:20260423T034511
CREATED:20210520T172721Z
LAST-MODIFIED:20210520T172721Z
UID:5500-1624892400-1624894800@www.abileneysa.org
SUMMARY:Vertimax Training
DESCRIPTION:
URL:https://www.abileneysa.org/event/vertimax-training-30/
LOCATION:Dodge Jones Youth Sports Center\, 1042 Loop 322\, Abilene\, TX\, 79602\, United States
ORGANIZER;CN="AYSA":MAILTO:info@abileneysa.org
END:VEVENT
BEGIN:VEVENT
DTSTART;TZID=UTC:20210628T171500
DTEND;TZID=UTC:20210628T181500
DTSTAMP:20260423T034511
CREATED:20210119T182222Z
LAST-MODIFIED:20210119T182222Z
UID:4041-1624900500-1624904100@www.abileneysa.org
SUMMARY:Volleyball Firm Foundations (1)
DESCRIPTION:This is our developmental program that introduces the game of volleyball to children. Within this program\, players will begin to learn the basic skills of the game while also building character and leadership skills. Parents must be fully dedicated and actively involved in this program with their child.  Age appropriate games and activities will be utilized to allow for a fun environment in which the fundamental skills of the sport are presented. \nParents are expected to be involved and engaged in every training session at the facility as well as the home training portion which involves both physical and skill-based activities.  (If a parent can’t be present then it can be any adult figure in their life.)
URL:https://www.abileneysa.org/event/volleyball-firm-foundations-1-16/
LOCATION:Dodge Jones Youth Sports Center\, 1042 Loop 322\, Abilene\, TX\, 79602\, United States
ORGANIZER;CN="AYSA":MAILTO:info@abileneysa.org
END:VEVENT
BEGIN:VEVENT
DTSTART;TZID=UTC:20210628T173000
DTEND;TZID=UTC:20210628T210000
DTSTAMP:20260423T034511
CREATED:20210414T203425Z
LAST-MODIFIED:20210414T203425Z
UID:5309-1624901400-1624914000@www.abileneysa.org
SUMMARY:Abilene Basketball League
DESCRIPTION:The Abilene Basketball League is AYSA’s High School Basketball League. THIS IS A BRING YOUR TEAM ONLY LEAGUE!!! \nLIMITED SPOTS FOR EACH DIVISION \nThis league will be played on MONDAY NIGHTS ONLY!!! Starting MAY 17th and go until JUNE 28th. (no weeks will be skipped) \nThis is a 6 week long League\, on Monday nights only! Game times will be 5:30pm\, 6:15pm\, 7:00pm\, 7:45pm and 8:30pm \nWe will have a 7th and 8th-grade division\, a Freshman/Junior Varsity Division (small school)\, and a Junior Varsity/ Varsity Division for BOYS& GIRLS. It will be limited team spots\, so do not wait or you might miss out! \nEach team must have 7 players on their roster minimum\, there is no max. \n  \nPrice is $80 per athlete WITH NO JERSEY or $100 per athlete and includes a reversible jersey. \n  \nTeams will play one game a night that is (2)-16-minute halves running clock. \nWe will keep track of wins and losses. \nIf you have questions\, contact us at Admin@abileneysa.org
URL:https://www.abileneysa.org/event/abilene-basketball-league-7/
LOCATION:Dodge Jones Youth Sports Center\, 1042 Loop 322\, Abilene\, TX\, 79602\, United States
ORGANIZER;CN="AYSA":MAILTO:info@abileneysa.org
END:VEVENT
BEGIN:VEVENT
DTSTART;TZID=UTC:20210628T183000
DTEND;TZID=UTC:20210628T193000
DTSTAMP:20260423T034511
CREATED:20210119T182512Z
LAST-MODIFIED:20210119T182512Z
UID:4062-1624905000-1624908600@www.abileneysa.org
SUMMARY:Volleyball Firm Foundations (2)
DESCRIPTION:This is our developmental program that introduces the game of volleyball to children. Within this program\, players will begin to learn the basic skills of the game while also building character and leadership skills. Parents must be fully dedicated and actively involved in this program with their child.  Age appropriate games and activities will be utilized to allow for a fun environment in which the fundamental skills of the sport are presented. \nParents are expected to be involved and engaged in every training session at the facility as well as the home training portion which involves both physical and skill-based activities.  (If a parent can’t be present then it can be any adult figure in their life.)
URL:https://www.abileneysa.org/event/volleyball-firm-foundations-2-18/
LOCATION:Dodge Jones Youth Sports Center\, 1042 Loop 322\, Abilene\, TX\, 79602\, United States
ORGANIZER;CN="AYSA":MAILTO:info@abileneysa.org
END:VEVENT
END:VCALENDAR