BEGIN:VCALENDAR
VERSION:2.0
PRODID:-//AYSA - ECPv6.15.18//NONSGML v1.0//EN
CALSCALE:GREGORIAN
METHOD:PUBLISH
X-WR-CALNAME:AYSA
X-ORIGINAL-URL:https://www.abileneysa.org
X-WR-CALDESC:Events for AYSA
REFRESH-INTERVAL;VALUE=DURATION:PT1H
X-Robots-Tag:noindex
X-PUBLISHED-TTL:PT1H
BEGIN:VTIMEZONE
TZID:UTC
BEGIN:STANDARD
TZOFFSETFROM:+0000
TZOFFSETTO:+0000
TZNAME:UTC
DTSTART:20200101T000000
END:STANDARD
END:VTIMEZONE
BEGIN:VEVENT
DTSTART;TZID=UTC:20210623T110000
DTEND;TZID=UTC:20210623T123000
DTSTAMP:20260423T034532
CREATED:20210119T184331Z
LAST-MODIFIED:20210119T184331Z
UID:4131-1624446000-1624451400@www.abileneysa.org
SUMMARY:Setter / Hitter Camp (2)
DESCRIPTION:Ages: 13-18
URL:https://www.abileneysa.org/event/setter-hitter-camp-2-6/
LOCATION:Dodge Jones Youth Sports Center\, 1042 Loop 322\, Abilene\, TX\, 79602\, United States
ORGANIZER;CN="AYSA":MAILTO:info@abileneysa.org
END:VEVENT
BEGIN:VEVENT
DTSTART;TZID=UTC:20210623T140000
DTEND;TZID=UTC:20210623T143000
DTSTAMP:20260423T034532
CREATED:20210120T224338Z
LAST-MODIFIED:20210120T224338Z
UID:4321-1624456800-1624458600@www.abileneysa.org
SUMMARY:Vertimax Training
DESCRIPTION:
URL:https://www.abileneysa.org/event/vertimax-training-14/
LOCATION:Dodge Jones Youth Sports Center\, 1042 Loop 322\, Abilene\, TX\, 79602\, United States
ORGANIZER;CN="AYSA":MAILTO:info@abileneysa.org
END:VEVENT
BEGIN:VEVENT
DTSTART;TZID=UTC:20210623T150000
DTEND;TZID=UTC:20210623T154000
DTSTAMP:20260423T034532
CREATED:20210414T211533Z
LAST-MODIFIED:20210414T211533Z
UID:5334-1624460400-1624462800@www.abileneysa.org
SUMMARY:Vertimax Training
DESCRIPTION:
URL:https://www.abileneysa.org/event/vertimax-training-31/
LOCATION:Dodge Jones Youth Sports Center\, 1042 Loop 322\, Abilene\, TX\, 79602\, United States
ORGANIZER;CN="AYSA":MAILTO:info@abileneysa.org
END:VEVENT
BEGIN:VEVENT
DTSTART;TZID=UTC:20210623T173000
DTEND;TZID=UTC:20210623T193000
DTSTAMP:20260423T034532
CREATED:20210520T174336Z
LAST-MODIFIED:20210520T174336Z
UID:5546-1624469400-1624476600@www.abileneysa.org
SUMMARY:Abilene Basketball League
DESCRIPTION:The Abilene Basketball League is AYSA’s High School Basketball League. THIS IS A BRING YOUR TEAM ONLY LEAGUE!!! \nLIMITED SPOTS FOR EACH DIVISION \nThis league will be played on WEDNESDAY NIGHTS ONLY!!! Starting MAY 19th and go until JUNE 23th. (no weeks will be skipped) \nThis is a 6 week long League\, on Wednesday nights only!
URL:https://www.abileneysa.org/event/abilene-basketball-league-12/
LOCATION:Dodge Jones Youth Sports Center\, 1042 Loop 322\, Abilene\, TX\, 79602\, United States
ORGANIZER;CN="AYSA":MAILTO:info@abileneysa.org
END:VEVENT
END:VCALENDAR