BEGIN:VCALENDAR
VERSION:2.0
PRODID:-//AYSA - ECPv6.15.18//NONSGML v1.0//EN
CALSCALE:GREGORIAN
METHOD:PUBLISH
X-ORIGINAL-URL:https://www.abileneysa.org
X-WR-CALDESC:Events for AYSA
REFRESH-INTERVAL;VALUE=DURATION:PT1H
X-Robots-Tag:noindex
X-PUBLISHED-TTL:PT1H
BEGIN:VTIMEZONE
TZID:UTC
BEGIN:STANDARD
TZOFFSETFROM:+0000
TZOFFSETTO:+0000
TZNAME:UTC
DTSTART:20200101T000000
END:STANDARD
END:VTIMEZONE
BEGIN:VEVENT
DTSTART;TZID=UTC:20210616T140000
DTEND;TZID=UTC:20210616T143000
DTSTAMP:20260423T034810
CREATED:20210120T224215Z
LAST-MODIFIED:20210120T224215Z
UID:4309-1623852000-1623853800@www.abileneysa.org
SUMMARY:Vertimax Training
DESCRIPTION:
URL:https://www.abileneysa.org/event/vertimax-training-10/
LOCATION:Dodge Jones Youth Sports Center\, 1042 Loop 322\, Abilene\, TX\, 79602\, United States
ORGANIZER;CN="AYSA":MAILTO:info@abileneysa.org
END:VEVENT
BEGIN:VEVENT
DTSTART;TZID=UTC:20210616T150000
DTEND;TZID=UTC:20210616T154000
DTSTAMP:20260423T034810
CREATED:20210414T211341Z
LAST-MODIFIED:20210414T211341Z
UID:5328-1623855600-1623858000@www.abileneysa.org
SUMMARY:Vertimax Training
DESCRIPTION:
URL:https://www.abileneysa.org/event/vertimax-training-29/
LOCATION:Dodge Jones Youth Sports Center\, 1042 Loop 322\, Abilene\, TX\, 79602\, United States
ORGANIZER;CN="AYSA":MAILTO:info@abileneysa.org
END:VEVENT
BEGIN:VEVENT
DTSTART;TZID=UTC:20210616T173000
DTEND;TZID=UTC:20210616T193000
DTSTAMP:20260423T034810
CREATED:20210520T174313Z
LAST-MODIFIED:20210520T174313Z
UID:5543-1623864600-1623871800@www.abileneysa.org
SUMMARY:Abilene Basketball League
DESCRIPTION:The Abilene Basketball League is AYSA’s High School Basketball League. THIS IS A BRING YOUR TEAM ONLY LEAGUE!!! \nLIMITED SPOTS FOR EACH DIVISION \nThis league will be played on WEDNESDAY NIGHTS ONLY!!! Starting MAY 19th and go until JUNE 23th. (no weeks will be skipped) \nThis is a 6 week long League\, on Wednesday nights only!
URL:https://www.abileneysa.org/event/abilene-basketball-league-11/
LOCATION:Dodge Jones Youth Sports Center\, 1042 Loop 322\, Abilene\, TX\, 79602\, United States
ORGANIZER;CN="AYSA":MAILTO:info@abileneysa.org
END:VEVENT
END:VCALENDAR